BEGIN:VCALENDAR
VERSION:2.0
PRODID:icalendar-ruby
CALSCALE:GREGORIAN
METHOD:PUBLISH
BEGIN:VEVENT
DTSTAMP:20260422T224800Z
UID:89-2893926@rocksolidhudson.com
DTSTART:20260820T223000Z
DTEND:20260821T000000Z
CLASS:PUBLIC
CREATED:20260422T182928
DESCRIPTION:
LAST-MODIFIED:20260422T182928
LOCATION:334 Union St\, Hudson NY 12534
SUMMARY:Celebrate Freedom
URL;VALUE=URI:https://rocksolidhudson.com/events/celebrate-freedom/2026-08-
 20
ATTACH;FILENAME=CF_2023.jpg;FMTTYPE=image/jpeg:https://dq5pwpg1q8ru0.cloudf
 ront.net/2023/01/31/07/31/29/caabb3f2-552d-4aa2-9022-1d51096253b8/CF_2023.
 jpg
END:VEVENT
END:VCALENDAR
