BEGIN:VCALENDAR
VERSION:2.0
PRODID:icalendar-ruby
CALSCALE:GREGORIAN
METHOD:PUBLISH
BEGIN:VEVENT
DTSTAMP:20260423T091228Z
UID:89-2894980@rocksolidhudson.com
DTSTART:20261001T223000Z
DTEND:20261002T000000Z
CLASS:PUBLIC
CREATED:20260422T212127
DESCRIPTION:
LAST-MODIFIED:20260422T212127
LOCATION:334 Union St\, Hudson NY 12534
SUMMARY:Celebrate Freedom
URL;VALUE=URI:https://rocksolidhudson.com/events/celebrate-freedom/2026-10-
 01
ATTACH;FILENAME=CF_2023.jpg;FMTTYPE=image/jpeg:https://dq5pwpg1q8ru0.cloudf
 ront.net/2023/01/31/07/31/29/caabb3f2-552d-4aa2-9022-1d51096253b8/CF_2023.
 jpg
END:VEVENT
END:VCALENDAR
