BEGIN:VCALENDAR
VERSION:2.0
PRODID:icalendar-ruby
CALSCALE:GREGORIAN
METHOD:PUBLISH
BEGIN:VEVENT
DTSTAMP:20260423T121211Z
UID:154-2896069@rocksolidhudson.com
DTSTART:20260920T130000Z
DTEND:20260920T143000Z
CLASS:PUBLIC
CREATED:20260423T065035
DESCRIPTION:
LAST-MODIFIED:20260423T065035
LOCATION:
SUMMARY:Sunday Worship - First Service
URL;VALUE=URI:https://rocksolidhudson.com/events/sunday-worship-first-servi
 ce/2026-09-20
ATTACH;FILENAME=1.jpg;FMTTYPE=image/jpeg:https://dq5pwpg1q8ru0.cloudfront.n
 et/2026/02/04/16/18/29/46af1702-4b45-4e15-afae-955a544305d0/1.jpg
END:VEVENT
END:VCALENDAR
