BEGIN:VCALENDAR
VERSION:2.0
PRODID:icalendar-ruby
CALSCALE:GREGORIAN
METHOD:PUBLISH
BEGIN:VEVENT
DTSTAMP:20260420T041950Z
UID:155-2875171@rocksolidhudson.com
DTSTART:20260614T150000Z
DTEND:20260614T163000Z
CLASS:PUBLIC
CREATED:20260419T215228
DESCRIPTION:
LAST-MODIFIED:20260419T215228
LOCATION:
SUMMARY:Sunday Worship - Second Service
URL;VALUE=URI:https://rocksolidhudson.com/events/sunday-worship-second-serv
 ice/2026-06-14
ATTACH;FILENAME=2.jpg;FMTTYPE=image/jpeg:https://dq5pwpg1q8ru0.cloudfront.n
 et/2026/02/04/16/20/13/f6243c56-730b-49ef-a555-2ce1f287a370/2.jpg
END:VEVENT
END:VCALENDAR
