BEGIN:VCALENDAR
VERSION:2.0
PRODID:icalendar-ruby
CALSCALE:GREGORIAN
METHOD:PUBLISH
BEGIN:VEVENT
DTSTAMP:20260422T155515Z
UID:155-2890869@rocksolidhudson.com
DTSTART:20260802T150000Z
DTEND:20260802T163000Z
CLASS:PUBLIC
CREATED:20260422T094505
DESCRIPTION:
LAST-MODIFIED:20260422T094505
LOCATION:
SUMMARY:Sunday Worship - Second Service
URL;VALUE=URI:https://rocksolidhudson.com/events/sunday-worship-second-serv
 ice/2026-08-02
ATTACH;FILENAME=2.jpg;FMTTYPE=image/jpeg:https://dq5pwpg1q8ru0.cloudfront.n
 et/2026/02/04/16/20/13/f6243c56-730b-49ef-a555-2ce1f287a370/2.jpg
END:VEVENT
END:VCALENDAR
